BEGIN:VCALENDAR
VERSION:2.0
PRODID:-//DDRB - ECPv6.15.19//NONSGML v1.0//EN
CALSCALE:GREGORIAN
METHOD:PUBLISH
X-WR-CALNAME:DDRB
X-ORIGINAL-URL:http://www.ddrb.org
X-WR-CALDESC:Events for DDRB
REFRESH-INTERVAL;VALUE=DURATION:PT1H
X-Robots-Tag:noindex
X-PUBLISHED-TTL:PT1H
BEGIN:VTIMEZONE
TZID:America/Chicago
BEGIN:DAYLIGHT
TZOFFSETFROM:-0600
TZOFFSETTO:-0500
TZNAME:CDT
DTSTART:20160313T080000
END:DAYLIGHT
BEGIN:STANDARD
TZOFFSETFROM:-0500
TZOFFSETTO:-0600
TZNAME:CST
DTSTART:20161106T070000
END:STANDARD
BEGIN:DAYLIGHT
TZOFFSETFROM:-0600
TZOFFSETTO:-0500
TZNAME:CDT
DTSTART:20170312T080000
END:DAYLIGHT
BEGIN:STANDARD
TZOFFSETFROM:-0500
TZOFFSETTO:-0600
TZNAME:CST
DTSTART:20171105T070000
END:STANDARD
BEGIN:DAYLIGHT
TZOFFSETFROM:-0600
TZOFFSETTO:-0500
TZNAME:CDT
DTSTART:20180311T080000
END:DAYLIGHT
BEGIN:STANDARD
TZOFFSETFROM:-0500
TZOFFSETTO:-0600
TZNAME:CST
DTSTART:20181104T070000
END:STANDARD
BEGIN:DAYLIGHT
TZOFFSETFROM:-0600
TZOFFSETTO:-0500
TZNAME:CDT
DTSTART:20190310T080000
END:DAYLIGHT
BEGIN:STANDARD
TZOFFSETFROM:-0500
TZOFFSETTO:-0600
TZNAME:CST
DTSTART:20191103T070000
END:STANDARD
END:VTIMEZONE
BEGIN:VEVENT
DTSTART;TZID=America/Chicago:20180321T180000
DTEND;TZID=America/Chicago:20180321T200000
DTSTAMP:20260419T071427
CREATED:20180308T155448Z
LAST-MODIFIED:20180308T155448Z
UID:5302-1521655200-1521662400@www.ddrb.org
SUMMARY:People First - St. Charles
DESCRIPTION:People First – St. Charles Chapter is a self-advocacy group for individuals aged 18 and over diagnosed with a developmental disability that promotes self advocacy\, training\, quality of life and equal rights. \nThis month People First have invited a guest speaker from Delta Center for Independent Living.  Members will also sign up for the Real Voices Real Choices annual conference.
URL:http://www.ddrb.org/event/people-first-st-charles/
LOCATION:DDRB Office\, 1025 Country Club Road\, St. Charles\, MO\, 63303\, United States
CATEGORIES:Community Events
END:VEVENT
BEGIN:VEVENT
DTSTART;TZID=America/Chicago:20180321T180000
DTEND;TZID=America/Chicago:20180321T200000
DTSTAMP:20260419T071427
CREATED:20180308T155448Z
LAST-MODIFIED:20180308T155448Z
UID:16372-1521655200-1521662400@www.ddrb.org
SUMMARY:People First - St. Charles
DESCRIPTION:People First – St. Charles Chapter is a self-advocacy group for individuals aged 18 and over diagnosed with a developmental disability that promotes self advocacy\, training\, quality of life and equal rights. \nThis month People First have invited a guest speaker from Delta Center for Independent Living.  Members will also sign up for the Real Voices Real Choices annual conference.
URL:http://www.ddrb.org/event/people-first-st-charles-14/
LOCATION:DDRB Office\, 1025 Country Club Road\, St. Charles\, MO\, 63303\, United States
CATEGORIES:Community Events
END:VEVENT
BEGIN:VEVENT
DTSTART;TZID=America/Chicago:20180315T190000
DTEND;TZID=America/Chicago:20180315T210000
DTSTAMP:20260419T071427
CREATED:20180206T202051Z
LAST-MODIFIED:20180206T202051Z
UID:5163-1521140400-1521147600@www.ddrb.org
SUMMARY:Board Meeting
DESCRIPTION:The DDRB will hold its monthly board meeting Thursday\, March 15\, 2018 at 7:00 p.m. at the DDRB office\, 1025 Country Club Road\, St. Charles\, MO 63303.  Meetings are open to the public and provide an opportunity for public comments.
URL:http://www.ddrb.org/event/board-meeting-15/
LOCATION:DDRB Office\, 1025 Country Club Road\, St. Charles\, MO\, 63303\, United States
CATEGORIES:Board Meeting
END:VEVENT
BEGIN:VEVENT
DTSTART;TZID=America/Chicago:20180315T190000
DTEND;TZID=America/Chicago:20180315T210000
DTSTAMP:20260419T071427
CREATED:20180206T202051Z
LAST-MODIFIED:20180206T202051Z
UID:16343-1521140400-1521147600@www.ddrb.org
SUMMARY:Board Meeting
DESCRIPTION:The DDRB will hold its monthly board meeting Thursday\, March 15\, 2018 at 7:00 p.m. at the DDRB office\, 1025 Country Club Road\, St. Charles\, MO 63303.  Meetings are open to the public and provide an opportunity for public comments.
URL:http://www.ddrb.org/event/board-meeting-15-2/
LOCATION:DDRB Office\, 1025 Country Club Road\, St. Charles\, MO\, 63303\, United States
CATEGORIES:Board Meeting
END:VEVENT
BEGIN:VEVENT
DTSTART;TZID=America/Chicago:20180306T150000
DTEND;TZID=America/Chicago:20180306T170000
DTSTAMP:20260419T071427
CREATED:20180206T210328Z
LAST-MODIFIED:20180206T210328Z
UID:5203-1520348400-1520355600@www.ddrb.org
SUMMARY:Finance Committee
DESCRIPTION:The DDRB has scheduled a Finance Committee meeting for Tuesday\, March 6\, 2018 at 3:00 PM at the DDRB office\, 1025 Country Club Road\, St. Charles\, MO 63303.
URL:http://www.ddrb.org/event/finance-committee-2/
LOCATION:DDRB Office\, 1025 Country Club Road\, St. Charles\, MO\, 63303\, United States
CATEGORIES:Committee Meetings
END:VEVENT
BEGIN:VEVENT
DTSTART;TZID=America/Chicago:20180306T150000
DTEND;TZID=America/Chicago:20180306T170000
DTSTAMP:20260419T071427
CREATED:20180206T210328Z
LAST-MODIFIED:20180206T210328Z
UID:16362-1520348400-1520355600@www.ddrb.org
SUMMARY:Finance Committee
DESCRIPTION:The DDRB has scheduled a Finance Committee meeting for Tuesday\, March 6\, 2018 at 3:00 PM at the DDRB office\, 1025 Country Club Road\, St. Charles\, MO 63303.
URL:http://www.ddrb.org/event/finance-committee-2-2/
LOCATION:DDRB Office\, 1025 Country Club Road\, St. Charles\, MO\, 63303\, United States
CATEGORIES:Committee Meetings
END:VEVENT
BEGIN:VEVENT
DTSTART;TZID=America/Chicago:20180301T170000
DTEND;TZID=America/Chicago:20180301T190000
DTSTAMP:20260419T071427
CREATED:20180206T204820Z
LAST-MODIFIED:20180206T204820Z
UID:5183-1519923600-1519930800@www.ddrb.org
SUMMARY:Program Committee - Cancelled
DESCRIPTION:The DDRB has scheduled a Program Committee meeting has been cancelled for March 2018.
URL:http://www.ddrb.org/event/program-committee/
LOCATION:DDRB Office\, 1025 Country Club Road\, St. Charles\, MO\, 63303\, United States
CATEGORIES:Committee Meetings
END:VEVENT
BEGIN:VEVENT
DTSTART;TZID=America/Chicago:20180301T170000
DTEND;TZID=America/Chicago:20180301T190000
DTSTAMP:20260419T071427
CREATED:20180206T204820Z
LAST-MODIFIED:20180206T204820Z
UID:16353-1519923600-1519930800@www.ddrb.org
SUMMARY:Program Committee - Cancelled
DESCRIPTION:The DDRB has scheduled a Program Committee meeting has been cancelled for March 2018.
URL:http://www.ddrb.org/event/program-committee-11/
LOCATION:DDRB Office\, 1025 Country Club Road\, St. Charles\, MO\, 63303\, United States
CATEGORIES:Committee Meetings
END:VEVENT
BEGIN:VEVENT
DTSTART;TZID=America/Chicago:20180221T180000
DTEND;TZID=America/Chicago:20180221T200000
DTSTAMP:20260419T071427
CREATED:20180206T162613Z
LAST-MODIFIED:20180206T162613Z
UID:5138-1519236000-1519243200@www.ddrb.org
SUMMARY:People First Meeting
DESCRIPTION:People First of St. Charles creates new opportunities for individuals with developmental disabilities to develop self-advocacy skills that will lead to a better understanding of services available\, how to access them\, and how to advocate to solve problems and barriers experienced in the service system. \nThe February meeting will include a guest speaker and sign up for the Real Voices\, Real Choices Annual Conference. \nAttendees are encouraged to bring a snack to share.
URL:http://www.ddrb.org/event/people-first-meeting-4/
LOCATION:MO
CATEGORIES:Community Events
END:VEVENT
BEGIN:VEVENT
DTSTART;TZID=America/Chicago:20180221T180000
DTEND;TZID=America/Chicago:20180221T200000
DTSTAMP:20260419T071427
CREATED:20180206T162613Z
LAST-MODIFIED:20180206T162613Z
UID:16335-1519236000-1519243200@www.ddrb.org
SUMMARY:People First Meeting
DESCRIPTION:People First of St. Charles creates new opportunities for individuals with developmental disabilities to develop self-advocacy skills that will lead to a better understanding of services available\, how to access them\, and how to advocate to solve problems and barriers experienced in the service system. \nThe February meeting will include a guest speaker and sign up for the Real Voices\, Real Choices Annual Conference. \nAttendees are encouraged to bring a snack to share.
URL:http://www.ddrb.org/event/people-first-meeting-4-2/
LOCATION:MO
CATEGORIES:Community Events
END:VEVENT
BEGIN:VEVENT
DTSTART;TZID=America/Chicago:20180219T080000
DTEND;TZID=America/Chicago:20180219T163000
DTSTAMP:20260419T071427
CREATED:20180206T212315Z
LAST-MODIFIED:20180206T212315Z
UID:5223-1519027200-1519057800@www.ddrb.org
SUMMARY:Holiday - Office Closed
DESCRIPTION:For emergencies relating to case management when our office is closed\, call 636-667-9012 for the on-call specialist.
URL:http://www.ddrb.org/event/holiday-office-closed/
LOCATION:DDRB Office\, 1025 Country Club Road\, St. Charles\, MO\, 63303\, United States
CATEGORIES:Public Notices
END:VEVENT
BEGIN:VEVENT
DTSTART;TZID=America/Chicago:20180219T080000
DTEND;TZID=America/Chicago:20180219T163000
DTSTAMP:20260419T071427
CREATED:20180206T212315Z
LAST-MODIFIED:20180206T212315Z
UID:16371-1519027200-1519057800@www.ddrb.org
SUMMARY:Holiday - Office Closed
DESCRIPTION:For emergencies relating to case management when our office is closed\, call 636-667-9012 for the on-call specialist.
URL:http://www.ddrb.org/event/holiday-office-closed-2/
LOCATION:DDRB Office\, 1025 Country Club Road\, St. Charles\, MO\, 63303\, United States
CATEGORIES:Public Notices
END:VEVENT
BEGIN:VEVENT
DTSTART;TZID=America/Chicago:20180215T190000
DTEND;TZID=America/Chicago:20180215T210000
DTSTAMP:20260419T071427
CREATED:20180206T201840Z
LAST-MODIFIED:20180206T201840Z
UID:5160-1518721200-1518728400@www.ddrb.org
SUMMARY:Board Meeting
DESCRIPTION:The DDRB will hold its monthly board meeting Thursday\, February 15\, 2018 at 7:00 p.m. at the DDRB office\, 1025 Country Club Road\, St. Charles\, MO 63303.  Meetings are open to the public and provide an opportunity for public comments.
URL:http://www.ddrb.org/event/board-meeting-12/
LOCATION:DDRB Office\, 1025 Country Club Road\, St. Charles\, MO\, 63303\, United States
CATEGORIES:Board Meeting
END:VEVENT
BEGIN:VEVENT
DTSTART;TZID=America/Chicago:20180215T190000
DTEND;TZID=America/Chicago:20180215T210000
DTSTAMP:20260419T071427
CREATED:20180206T201840Z
LAST-MODIFIED:20180206T201840Z
UID:16342-1518721200-1518728400@www.ddrb.org
SUMMARY:Board Meeting
DESCRIPTION:The DDRB will hold its monthly board meeting Thursday\, February 15\, 2018 at 7:00 p.m. at the DDRB office\, 1025 Country Club Road\, St. Charles\, MO 63303.  Meetings are open to the public and provide an opportunity for public comments.
URL:http://www.ddrb.org/event/board-meeting-12-2/
LOCATION:DDRB Office\, 1025 Country Club Road\, St. Charles\, MO\, 63303\, United States
CATEGORIES:Board Meeting
END:VEVENT
BEGIN:VEVENT
DTSTART;TZID=America/Chicago:20180208T173000
DTEND;TZID=America/Chicago:20180208T190000
DTSTAMP:20260419T071427
CREATED:20180206T194615Z
LAST-MODIFIED:20180206T194615Z
UID:5150-1518111000-1518116400@www.ddrb.org
SUMMARY:Financial Working Session 02-08-18
DESCRIPTION:
URL:http://www.ddrb.org/event/financial-working-session-02-08-18/
LOCATION:DDRB Office\, 1025 Country Club Road\, St. Charles\, MO\, 63303\, United States
CATEGORIES:Committee Meetings
END:VEVENT
BEGIN:VEVENT
DTSTART;TZID=America/Chicago:20180208T173000
DTEND;TZID=America/Chicago:20180208T190000
DTSTAMP:20260419T071427
CREATED:20180206T194615Z
LAST-MODIFIED:20180206T194615Z
UID:16337-1518111000-1518116400@www.ddrb.org
SUMMARY:Financial Working Session 02-08-18
DESCRIPTION:
URL:http://www.ddrb.org/event/financial-working-session-02-08-18-2/
LOCATION:DDRB Office\, 1025 Country Club Road\, St. Charles\, MO\, 63303\, United States
CATEGORIES:Committee Meetings
END:VEVENT
BEGIN:VEVENT
DTSTART;TZID=America/Chicago:20180206T150000
DTEND;TZID=America/Chicago:20180206T170000
DTSTAMP:20260419T071427
CREATED:20180206T194440Z
LAST-MODIFIED:20180206T194440Z
UID:5148-1517929200-1517936400@www.ddrb.org
SUMMARY:Finance Committee Meeting
DESCRIPTION:
URL:http://www.ddrb.org/event/finance-committee-meeting-3/
LOCATION:DDRB Office\, 1025 Country Club Road\, St. Charles\, MO\, 63303\, United States
CATEGORIES:Committee Meetings
END:VEVENT
BEGIN:VEVENT
DTSTART;TZID=America/Chicago:20180206T150000
DTEND;TZID=America/Chicago:20180206T170000
DTSTAMP:20260419T071427
CREATED:20180206T194440Z
LAST-MODIFIED:20180206T194440Z
UID:16336-1517929200-1517936400@www.ddrb.org
SUMMARY:Finance Committee Meeting
DESCRIPTION:
URL:http://www.ddrb.org/event/finance-committee-meeting-3-2/
LOCATION:DDRB Office\, 1025 Country Club Road\, St. Charles\, MO\, 63303\, United States
CATEGORIES:Committee Meetings
END:VEVENT
BEGIN:VEVENT
DTSTART;TZID=America/Chicago:20180117T180000
DTEND;TZID=America/Chicago:20180117T200000
DTSTAMP:20260419T071427
CREATED:20180110T152714Z
LAST-MODIFIED:20180110T152714Z
UID:5061-1516212000-1516219200@www.ddrb.org
SUMMARY:People First Meeting
DESCRIPTION:People First of St. Charles creates new opportunities for individuals with developmental disabilities to develop self-advocacy skills that will lead to a better understanding of services available\, how to access them\, and how to advocate to solve problems and barriers experienced in the service system. \nThe January meeting will include installation of new officers and discussion regarding the Real Voices\, Real Choices Annual Conference.
URL:http://www.ddrb.org/event/people-first-meeting-3/
LOCATION:DDRB Office\, 1025 Country Club Road\, St. Charles\, MO\, 63303\, United States
CATEGORIES:Community Events
END:VEVENT
BEGIN:VEVENT
DTSTART;TZID=America/Chicago:20180117T180000
DTEND;TZID=America/Chicago:20180117T200000
DTSTAMP:20260419T071427
CREATED:20180110T152714Z
LAST-MODIFIED:20180110T152714Z
UID:16334-1516212000-1516219200@www.ddrb.org
SUMMARY:People First Meeting
DESCRIPTION:People First of St. Charles creates new opportunities for individuals with developmental disabilities to develop self-advocacy skills that will lead to a better understanding of services available\, how to access them\, and how to advocate to solve problems and barriers experienced in the service system. \nThe January meeting will include installation of new officers and discussion regarding the Real Voices\, Real Choices Annual Conference.
URL:http://www.ddrb.org/event/people-first-meeting-3-2/
LOCATION:DDRB Office\, 1025 Country Club Road\, St. Charles\, MO\, 63303\, United States
CATEGORIES:Community Events
END:VEVENT
BEGIN:VEVENT
DTSTART;TZID=America/Chicago:20171221T190000
DTEND;TZID=America/Chicago:20171221T210000
DTSTAMP:20260419T071427
CREATED:20170202T162127Z
LAST-MODIFIED:20170202T162127Z
UID:4083-1513882800-1513890000@www.ddrb.org
SUMMARY:Board Meeting
DESCRIPTION:The DDRB will hold its monthly board meeting Thursday\, December 21\, 2017 at 7:00 p.m. at the DDRB office\, 1025 Country Club Road\, St. Charles\, MO 63303.  Meetings are open to the public and provide an opportunity for public comments.
URL:http://www.ddrb.org/event/board-meeting-14/
LOCATION:MO
CATEGORIES:Board Meeting
END:VEVENT
BEGIN:VEVENT
DTSTART;TZID=America/Chicago:20171221T190000
DTEND;TZID=America/Chicago:20171221T210000
DTSTAMP:20260419T071427
CREATED:20170202T162127Z
LAST-MODIFIED:20170202T162127Z
UID:16317-1513882800-1513890000@www.ddrb.org
SUMMARY:Board Meeting
DESCRIPTION:The DDRB will hold its monthly board meeting Thursday\, December 21\, 2017 at 7:00 p.m. at the DDRB office\, 1025 Country Club Road\, St. Charles\, MO 63303.  Meetings are open to the public and provide an opportunity for public comments.
URL:http://www.ddrb.org/event/board-meeting-14-2/
LOCATION:MO
CATEGORIES:Board Meeting
END:VEVENT
BEGIN:VEVENT
DTSTART;TZID=America/Chicago:20171220T170000
DTEND;TZID=America/Chicago:20171220T190000
DTSTAMP:20260419T071427
CREATED:20171219T211207Z
LAST-MODIFIED:20171219T211207Z
UID:5004-1513789200-1513796400@www.ddrb.org
SUMMARY:Program Committee Meeting
DESCRIPTION:The DDRB has scheduled a Program Committee Meeting for Wednesday\, December 20\, 2017 at 5:00 p.m. at the DDRB office\, 1025 Country Club Road\, St. Charles\, MO 63301. \n  \n  \n 
URL:http://www.ddrb.org/event/program-committee-meeting-5/
LOCATION:MO
CATEGORIES:Committee Meetings
END:VEVENT
BEGIN:VEVENT
DTSTART;TZID=America/Chicago:20171220T170000
DTEND;TZID=America/Chicago:20171220T190000
DTSTAMP:20260419T071427
CREATED:20171219T211207Z
LAST-MODIFIED:20171219T211207Z
UID:16333-1513789200-1513796400@www.ddrb.org
SUMMARY:Program Committee Meeting
DESCRIPTION:The DDRB has scheduled a Program Committee Meeting for Wednesday\, December 20\, 2017 at 5:00 p.m. at the DDRB office\, 1025 Country Club Road\, St. Charles\, MO 63301. \n  \n  \n 
URL:http://www.ddrb.org/event/program-committee-meeting-5-2/
LOCATION:MO
CATEGORIES:Committee Meetings
END:VEVENT
BEGIN:VEVENT
DTSTART;TZID=America/Chicago:20171116T190000
DTEND;TZID=America/Chicago:20171116T210000
DTSTAMP:20260419T071427
CREATED:20170202T162025Z
LAST-MODIFIED:20170202T162025Z
UID:4081-1510858800-1510866000@www.ddrb.org
SUMMARY:Board Meeting
DESCRIPTION:The DDRB will hold its monthly board meeting Thursday\, November 16\, 2017 at 7:00 p.m. at the DDRB office\, 1025 Country Club Road\, St. Charles\, MO 63303.  Meetings are open to the public and provide an opportunity for public comments.
URL:http://www.ddrb.org/event/board-meeting-13/
LOCATION:MO
CATEGORIES:Board Meeting
END:VEVENT
BEGIN:VEVENT
DTSTART;TZID=America/Chicago:20171116T190000
DTEND;TZID=America/Chicago:20171116T210000
DTSTAMP:20260419T071427
CREATED:20170202T162025Z
LAST-MODIFIED:20170202T162025Z
UID:16316-1510858800-1510866000@www.ddrb.org
SUMMARY:Board Meeting
DESCRIPTION:The DDRB will hold its monthly board meeting Thursday\, November 16\, 2017 at 7:00 p.m. at the DDRB office\, 1025 Country Club Road\, St. Charles\, MO 63303.  Meetings are open to the public and provide an opportunity for public comments.
URL:http://www.ddrb.org/event/board-meeting-13-2/
LOCATION:MO
CATEGORIES:Board Meeting
END:VEVENT
BEGIN:VEVENT
DTSTART;TZID=America/Chicago:20171115T180000
DTEND;TZID=America/Chicago:20171115T200000
DTSTAMP:20260419T071427
CREATED:20171025T194450Z
LAST-MODIFIED:20171025T194450Z
UID:4833-1510768800-1510776000@www.ddrb.org
SUMMARY:People First Meeting
DESCRIPTION:
URL:http://www.ddrb.org/event/people-first-meeting-2/
LOCATION:DDRB Office\, 1025 Country Club Road\, St. Charles\, MO\, 63303\, United States
CATEGORIES:Community Events
END:VEVENT
BEGIN:VEVENT
DTSTART;TZID=America/Chicago:20171115T180000
DTEND;TZID=America/Chicago:20171115T200000
DTSTAMP:20260419T071427
CREATED:20171025T194450Z
LAST-MODIFIED:20171025T194450Z
UID:16331-1510768800-1510776000@www.ddrb.org
SUMMARY:People First Meeting
DESCRIPTION:
URL:http://www.ddrb.org/event/people-first-meeting-2-2/
LOCATION:DDRB Office\, 1025 Country Club Road\, St. Charles\, MO\, 63303\, United States
CATEGORIES:Community Events
END:VEVENT
BEGIN:VEVENT
DTSTART;TZID=America/Chicago:20171102T170000
DTEND;TZID=America/Chicago:20171102T190000
DTSTAMP:20260419T071427
CREATED:20171101T154201Z
LAST-MODIFIED:20171101T154201Z
UID:4848-1509642000-1509649200@www.ddrb.org
SUMMARY:Program Committee Meeting
DESCRIPTION:The DDRB has scheduled a Program Committee Meeting Thursday\, November 2\, 2017 at 5:00 PM at the DDRB office\, 1025 Country Club Road\, St. Charles\, MO 63303.
URL:http://www.ddrb.org/event/program-committee-meeting-4/
LOCATION:MO
CATEGORIES:Committee Meetings
END:VEVENT
BEGIN:VEVENT
DTSTART;TZID=America/Chicago:20171102T170000
DTEND;TZID=America/Chicago:20171102T190000
DTSTAMP:20260419T071427
CREATED:20171101T154201Z
LAST-MODIFIED:20171101T154201Z
UID:16332-1509642000-1509649200@www.ddrb.org
SUMMARY:Program Committee Meeting
DESCRIPTION:The DDRB has scheduled a Program Committee Meeting Thursday\, November 2\, 2017 at 5:00 PM at the DDRB office\, 1025 Country Club Road\, St. Charles\, MO 63303.
URL:http://www.ddrb.org/event/program-committee-meeting-4-2/
LOCATION:MO
CATEGORIES:Committee Meetings
END:VEVENT
END:VCALENDAR