BEGIN:VCALENDAR
VERSION:2.0
PRODID:-//DDRB - ECPv6.15.19//NONSGML v1.0//EN
CALSCALE:GREGORIAN
METHOD:PUBLISH
X-WR-CALNAME:DDRB
X-ORIGINAL-URL:http://www.ddrb.org
X-WR-CALDESC:Events for DDRB
REFRESH-INTERVAL;VALUE=DURATION:PT1H
X-Robots-Tag:noindex
X-PUBLISHED-TTL:PT1H
BEGIN:VTIMEZONE
TZID:America/Chicago
BEGIN:DAYLIGHT
TZOFFSETFROM:-0600
TZOFFSETTO:-0500
TZNAME:CDT
DTSTART:20180311T080000
END:DAYLIGHT
BEGIN:STANDARD
TZOFFSETFROM:-0500
TZOFFSETTO:-0600
TZNAME:CST
DTSTART:20181104T070000
END:STANDARD
BEGIN:DAYLIGHT
TZOFFSETFROM:-0600
TZOFFSETTO:-0500
TZNAME:CDT
DTSTART:20190310T080000
END:DAYLIGHT
BEGIN:STANDARD
TZOFFSETFROM:-0500
TZOFFSETTO:-0600
TZNAME:CST
DTSTART:20191103T070000
END:STANDARD
BEGIN:DAYLIGHT
TZOFFSETFROM:-0600
TZOFFSETTO:-0500
TZNAME:CDT
DTSTART:20200308T080000
END:DAYLIGHT
BEGIN:STANDARD
TZOFFSETFROM:-0500
TZOFFSETTO:-0600
TZNAME:CST
DTSTART:20201101T070000
END:STANDARD
END:VTIMEZONE
BEGIN:VEVENT
DTSTART;TZID=America/Chicago:20190814T183000
DTEND;TZID=America/Chicago:20190814T203000
DTSTAMP:20260419T082354
CREATED:20190117T201245Z
LAST-MODIFIED:20190117T201245Z
UID:6318-1565807400-1565814600@www.ddrb.org
SUMMARY:People First St. Charles
DESCRIPTION:The monthly People First of St. Charles meeting is scheduled for Wednesday\, August 14\, 2019 from 6:30 PM – 8:30 PM at the DDRB office\, 1025 Country Club Road\, St. Charles\, MO 63303.
URL:http://www.ddrb.org/event/people-first-st-charles-9/
LOCATION:MO
CATEGORIES:Community Events
END:VEVENT
BEGIN:VEVENT
DTSTART;TZID=America/Chicago:20190814T183000
DTEND;TZID=America/Chicago:20190814T203000
DTSTAMP:20260419T082354
CREATED:20190117T201245Z
LAST-MODIFIED:20190117T201245Z
UID:16423-1565807400-1565814600@www.ddrb.org
SUMMARY:People First St. Charles
DESCRIPTION:The monthly People First of St. Charles meeting is scheduled for Wednesday\, August 14\, 2019 from 6:30 PM – 8:30 PM at the DDRB office\, 1025 Country Club Road\, St. Charles\, MO 63303.
URL:http://www.ddrb.org/event/people-first-st-charles-9-2/
LOCATION:MO
CATEGORIES:Community Events
END:VEVENT
BEGIN:VEVENT
DTSTART;TZID=America/Chicago:20190808T120000
DTEND;TZID=America/Chicago:20190808T140000
DTSTAMP:20260419T082354
CREATED:20190117T184843Z
LAST-MODIFIED:20190117T184843Z
UID:6270-1565265600-1565272800@www.ddrb.org
SUMMARY:Program Committee Meeting
DESCRIPTION:The DDRB has scheduled a Program Committee Meeting for Thursday\, August 8\, 2019 at 12:00 p.m. at the DDRB office\, 1025 Country Club Road\, St. Charles\, MO 63303.
URL:http://www.ddrb.org/event/program-committee-meeting-12/
LOCATION:MO
CATEGORIES:Committee Meetings
END:VEVENT
BEGIN:VEVENT
DTSTART;TZID=America/Chicago:20190808T120000
DTEND;TZID=America/Chicago:20190808T140000
DTSTAMP:20260419T082354
CREATED:20190117T184843Z
LAST-MODIFIED:20190117T184843Z
UID:16400-1565265600-1565272800@www.ddrb.org
SUMMARY:Program Committee Meeting
DESCRIPTION:The DDRB has scheduled a Program Committee Meeting for Thursday\, August 8\, 2019 at 12:00 p.m. at the DDRB office\, 1025 Country Club Road\, St. Charles\, MO 63303.
URL:http://www.ddrb.org/event/program-committee-meeting-12-2/
LOCATION:MO
CATEGORIES:Committee Meetings
END:VEVENT
BEGIN:VEVENT
DTSTART;TZID=America/Chicago:20190806T120000
DTEND;TZID=America/Chicago:20190806T140000
DTSTAMP:20260419T082354
CREATED:20190117T194545Z
LAST-MODIFIED:20190117T194545Z
UID:6293-1565092800-1565100000@www.ddrb.org
SUMMARY:Finance Committee Meeting
DESCRIPTION:The DDRB has scheduled a Finance Committee Meeting on Tuesday\, August 6\, 2019 at 12:00 p.m. at the DDRB office\, 1025 Country Club Road\, St. Charles\, MO 63303.
URL:http://www.ddrb.org/event/finance-committee-meeting-9/
LOCATION:MO
CATEGORIES:Committee Meetings
END:VEVENT
BEGIN:VEVENT
DTSTART;TZID=America/Chicago:20190806T120000
DTEND;TZID=America/Chicago:20190806T140000
DTSTAMP:20260419T082354
CREATED:20190117T194545Z
LAST-MODIFIED:20190117T194545Z
UID:16411-1565092800-1565100000@www.ddrb.org
SUMMARY:Finance Committee Meeting
DESCRIPTION:The DDRB has scheduled a Finance Committee Meeting on Tuesday\, August 6\, 2019 at 12:00 p.m. at the DDRB office\, 1025 Country Club Road\, St. Charles\, MO 63303.
URL:http://www.ddrb.org/event/finance-committee-meeting-9-2/
LOCATION:MO
CATEGORIES:Committee Meetings
END:VEVENT
BEGIN:VEVENT
DTSTART;TZID=America/Chicago:20190718T190000
DTEND;TZID=America/Chicago:20190718T210000
DTSTAMP:20260419T082354
CREATED:20190117T170044Z
LAST-MODIFIED:20190117T170044Z
UID:6247-1563476400-1563483600@www.ddrb.org
SUMMARY:Board Meeting
DESCRIPTION:The DDRB has scheduled a board meeting for Thursday\, July 18\, 2019 at 7:00 pm at the DDRB office\, 1025 Country Club Road\, St. Charles\, MO 63303. This meeting is open to the public and offers an opportunity for public comments.
URL:http://www.ddrb.org/event/board-meeting-29/
LOCATION:MO
CATEGORIES:Board Meeting
END:VEVENT
BEGIN:VEVENT
DTSTART;TZID=America/Chicago:20190718T190000
DTEND;TZID=America/Chicago:20190718T210000
DTSTAMP:20260419T082354
CREATED:20190117T170044Z
LAST-MODIFIED:20190117T170044Z
UID:16389-1563476400-1563483600@www.ddrb.org
SUMMARY:Board Meeting
DESCRIPTION:The DDRB has scheduled a board meeting for Thursday\, July 18\, 2019 at 7:00 pm at the DDRB office\, 1025 Country Club Road\, St. Charles\, MO 63303. This meeting is open to the public and offers an opportunity for public comments.
URL:http://www.ddrb.org/event/board-meeting-29-2/
LOCATION:MO
CATEGORIES:Board Meeting
END:VEVENT
BEGIN:VEVENT
DTSTART;TZID=America/Chicago:20190717T183000
DTEND;TZID=America/Chicago:20190717T203000
DTSTAMP:20260419T082354
CREATED:20190117T201115Z
LAST-MODIFIED:20190117T201115Z
UID:6316-1563388200-1563395400@www.ddrb.org
SUMMARY:People First St. Charles
DESCRIPTION:The monthly People First of St. Charles meeting is scheduled for Wednesday\, July 17\, 2019 from 6:30 PM – 8:30 PM at the DDRB office\, 1025 Country Club Road\, St. Charles\, MO 63303.
URL:http://www.ddrb.org/event/people-first-st-charles-8/
LOCATION:MO
CATEGORIES:Community Events
END:VEVENT
BEGIN:VEVENT
DTSTART;TZID=America/Chicago:20190717T183000
DTEND;TZID=America/Chicago:20190717T203000
DTSTAMP:20260419T082354
CREATED:20190117T201115Z
LAST-MODIFIED:20190117T201115Z
UID:16422-1563388200-1563395400@www.ddrb.org
SUMMARY:People First St. Charles
DESCRIPTION:The monthly People First of St. Charles meeting is scheduled for Wednesday\, July 17\, 2019 from 6:30 PM – 8:30 PM at the DDRB office\, 1025 Country Club Road\, St. Charles\, MO 63303.
URL:http://www.ddrb.org/event/people-first-st-charles-8-2/
LOCATION:MO
CATEGORIES:Community Events
END:VEVENT
BEGIN:VEVENT
DTSTART;TZID=America/Chicago:20190710T173000
DTEND;TZID=America/Chicago:20190710T203000
DTSTAMP:20260419T082354
CREATED:20190117T194434Z
LAST-MODIFIED:20190117T194434Z
UID:6291-1562779800-1562790600@www.ddrb.org
SUMMARY:Program Committee Meeting
DESCRIPTION:The DDRB has scheduled a Finance Committee Meeting on Wednesday\, July 10\, 2019 at 5:30 p.m. at the DDRB office\, 1025 Country Club Road\, St. Charles\, MO 63303.
URL:http://www.ddrb.org/event/program-committee-meeting-17/
LOCATION:MO
CATEGORIES:Committee Meetings
END:VEVENT
BEGIN:VEVENT
DTSTART;TZID=America/Chicago:20190710T173000
DTEND;TZID=America/Chicago:20190710T203000
DTSTAMP:20260419T082354
CREATED:20190117T194434Z
LAST-MODIFIED:20190117T194434Z
UID:16410-1562779800-1562790600@www.ddrb.org
SUMMARY:Program Committee Meeting
DESCRIPTION:The DDRB has scheduled a Finance Committee Meeting on Wednesday\, July 10\, 2019 at 5:30 p.m. at the DDRB office\, 1025 Country Club Road\, St. Charles\, MO 63303.
URL:http://www.ddrb.org/event/program-committee-meeting-17-2/
LOCATION:MO
CATEGORIES:Committee Meetings
END:VEVENT
BEGIN:VEVENT
DTSTART;TZID=America/Chicago:20190620T190000
DTEND;TZID=America/Chicago:20190620T210000
DTSTAMP:20260419T082354
CREATED:20190117T165635Z
LAST-MODIFIED:20190117T165635Z
UID:6244-1561057200-1561064400@www.ddrb.org
SUMMARY:Board Meeting
DESCRIPTION:The DDRB has scheduled a board meeting for Thursday\, June 20\, 2019 at 7:00 pm at the DDRB office\, 1025 Country Club Road\, St. Charles\, MO 63303. This meeting is open to the public and offers an opportunity for public comments.
URL:http://www.ddrb.org/event/board-meeting-28/
LOCATION:MO
CATEGORIES:Board Meeting
END:VEVENT
BEGIN:VEVENT
DTSTART;TZID=America/Chicago:20190620T190000
DTEND;TZID=America/Chicago:20190620T210000
DTSTAMP:20260419T082354
CREATED:20190117T165635Z
LAST-MODIFIED:20190117T165635Z
UID:16388-1561057200-1561064400@www.ddrb.org
SUMMARY:Board Meeting
DESCRIPTION:The DDRB has scheduled a board meeting for Thursday\, June 20\, 2019 at 7:00 pm at the DDRB office\, 1025 Country Club Road\, St. Charles\, MO 63303. This meeting is open to the public and offers an opportunity for public comments.
URL:http://www.ddrb.org/event/board-meeting-28-2/
LOCATION:MO
CATEGORIES:Board Meeting
END:VEVENT
BEGIN:VEVENT
DTSTART;TZID=America/Chicago:20190619T183000
DTEND;TZID=America/Chicago:20190619T203000
DTSTAMP:20260419T082354
CREATED:20190117T200950Z
LAST-MODIFIED:20190117T200950Z
UID:6314-1560969000-1560976200@www.ddrb.org
SUMMARY:People First St. Charles
DESCRIPTION:The monthly People First of St. Charles meeting is scheduled for Wednesday\, June 19\, 2019 from 6:30 PM – 8:30 PM at the DDRB office\, 1025 Country Club Road\, St. Charles\, MO 63303.
URL:http://www.ddrb.org/event/people-first-st-charles-7/
LOCATION:MO
CATEGORIES:Community Events
END:VEVENT
BEGIN:VEVENT
DTSTART;TZID=America/Chicago:20190619T183000
DTEND;TZID=America/Chicago:20190619T203000
DTSTAMP:20260419T082354
CREATED:20190117T200950Z
LAST-MODIFIED:20190117T200950Z
UID:16421-1560969000-1560976200@www.ddrb.org
SUMMARY:People First St. Charles
DESCRIPTION:The monthly People First of St. Charles meeting is scheduled for Wednesday\, June 19\, 2019 from 6:30 PM – 8:30 PM at the DDRB office\, 1025 Country Club Road\, St. Charles\, MO 63303.
URL:http://www.ddrb.org/event/people-first-st-charles-7-2/
LOCATION:MO
CATEGORIES:Community Events
END:VEVENT
BEGIN:VEVENT
DTSTART;TZID=America/Chicago:20190604T120000
DTEND;TZID=America/Chicago:20190604T140000
DTSTAMP:20260419T082354
CREATED:20190117T194302Z
LAST-MODIFIED:20190117T194302Z
UID:6289-1559649600-1559656800@www.ddrb.org
SUMMARY:Finance Committee Meeting
DESCRIPTION:The DDRB has scheduled a Finance Committee Meeting on Tuesday\, June 4\, 2019 at 12:00 p.m. at the DDRB office\, 1025 Country Club Road\, St. Charles\, MO 63303.
URL:http://www.ddrb.org/event/finance-committee-meeting-7/
LOCATION:MO
CATEGORIES:Committee Meetings
END:VEVENT
BEGIN:VEVENT
DTSTART;TZID=America/Chicago:20190604T120000
DTEND;TZID=America/Chicago:20190604T140000
DTSTAMP:20260419T082354
CREATED:20190117T194302Z
LAST-MODIFIED:20190117T194302Z
UID:16409-1559649600-1559656800@www.ddrb.org
SUMMARY:Finance Committee Meeting
DESCRIPTION:The DDRB has scheduled a Finance Committee Meeting on Tuesday\, June 4\, 2019 at 12:00 p.m. at the DDRB office\, 1025 Country Club Road\, St. Charles\, MO 63303.
URL:http://www.ddrb.org/event/finance-committee-meeting-7-2/
LOCATION:MO
CATEGORIES:Committee Meetings
END:VEVENT
BEGIN:VEVENT
DTSTART;TZID=America/Chicago:20190530T120000
DTEND;TZID=America/Chicago:20190530T140000
DTSTAMP:20260419T082354
CREATED:20190117T184722Z
LAST-MODIFIED:20190117T184722Z
UID:6268-1559217600-1559224800@www.ddrb.org
SUMMARY:Program Committee Meeting
DESCRIPTION:The DDRB has scheduled a Program Committee Meeting for Thursday\, May 30\, 2019 at 12:00 p.m. at the DDRB office\, 1025 Country Club Road\, St. Charles\, MO 63303.
URL:http://www.ddrb.org/event/program-committee-meeting-11/
LOCATION:MO
CATEGORIES:Committee Meetings
END:VEVENT
BEGIN:VEVENT
DTSTART;TZID=America/Chicago:20190530T120000
DTEND;TZID=America/Chicago:20190530T140000
DTSTAMP:20260419T082354
CREATED:20190117T184722Z
LAST-MODIFIED:20190117T184722Z
UID:16399-1559217600-1559224800@www.ddrb.org
SUMMARY:Program Committee Meeting
DESCRIPTION:The DDRB has scheduled a Program Committee Meeting for Thursday\, May 30\, 2019 at 12:00 p.m. at the DDRB office\, 1025 Country Club Road\, St. Charles\, MO 63303.
URL:http://www.ddrb.org/event/program-committee-meeting-11-2/
LOCATION:MO
CATEGORIES:Committee Meetings
END:VEVENT
BEGIN:VEVENT
DTSTART;TZID=America/Chicago:20190516T190000
DTEND;TZID=America/Chicago:20190516T210000
DTSTAMP:20260419T082354
CREATED:20190117T165457Z
LAST-MODIFIED:20190117T165457Z
UID:6242-1558033200-1558040400@www.ddrb.org
SUMMARY:Board Meeting
DESCRIPTION:The DDRB has scheduled a board meeting for Thursday\, May 16\, 2019 at 7:00 pm at the DDRB office\, 1025 Country Club Road\, St. Charles\, MO 63303. This meeting is open to the public and offers an opportunity for public comments.
URL:http://www.ddrb.org/event/board-meeting-27/
LOCATION:MO
CATEGORIES:Board Meeting
END:VEVENT
BEGIN:VEVENT
DTSTART;TZID=America/Chicago:20190516T190000
DTEND;TZID=America/Chicago:20190516T210000
DTSTAMP:20260419T082354
CREATED:20190117T165457Z
LAST-MODIFIED:20190117T165457Z
UID:16387-1558033200-1558040400@www.ddrb.org
SUMMARY:Board Meeting
DESCRIPTION:The DDRB has scheduled a board meeting for Thursday\, May 16\, 2019 at 7:00 pm at the DDRB office\, 1025 Country Club Road\, St. Charles\, MO 63303. This meeting is open to the public and offers an opportunity for public comments.
URL:http://www.ddrb.org/event/board-meeting-27-2/
LOCATION:MO
CATEGORIES:Board Meeting
END:VEVENT
BEGIN:VEVENT
DTSTART;TZID=America/Chicago:20190515T183000
DTEND;TZID=America/Chicago:20190515T203000
DTSTAMP:20260419T082354
CREATED:20190117T200753Z
LAST-MODIFIED:20190117T200753Z
UID:6312-1557945000-1557952200@www.ddrb.org
SUMMARY:People First St. Charles
DESCRIPTION:The monthly People First of St. Charles meeting is scheduled for Wednesday\, May 15\, 2019 from 6:30 PM – 8:30 PM at the DDRB office\, 1025 Country Club Road\, St. Charles\, MO 63303.
URL:http://www.ddrb.org/event/people-first-st-charles-6/
LOCATION:MO
CATEGORIES:Community Events
END:VEVENT
BEGIN:VEVENT
DTSTART;TZID=America/Chicago:20190515T183000
DTEND;TZID=America/Chicago:20190515T203000
DTSTAMP:20260419T082354
CREATED:20190117T200753Z
LAST-MODIFIED:20190117T200753Z
UID:16420-1557945000-1557952200@www.ddrb.org
SUMMARY:People First St. Charles
DESCRIPTION:The monthly People First of St. Charles meeting is scheduled for Wednesday\, May 15\, 2019 from 6:30 PM – 8:30 PM at the DDRB office\, 1025 Country Club Road\, St. Charles\, MO 63303.
URL:http://www.ddrb.org/event/people-first-st-charles-6-2/
LOCATION:MO
CATEGORIES:Community Events
END:VEVENT
BEGIN:VEVENT
DTSTART;TZID=America/Chicago:20190508T173000
DTEND;TZID=America/Chicago:20190508T210000
DTSTAMP:20260419T082354
CREATED:20190226T161218Z
LAST-MODIFIED:20190226T161218Z
UID:6431-1557336600-1557349200@www.ddrb.org
SUMMARY:Board Working Session
DESCRIPTION:The DDRB has scheduled a Board Working Session to review FY2020 funding applications prior to final funding decisions at the May 16\, 2019 Board Meeting.  Agency representatives are encouraged to attend the working session to provide clarification for any remaining questions regarding their funding request. The meeting being held at the DDRB office\, 1025 Country Club Road\, St. Charles\, MO 63303 beginning at 5:30 p.m.
URL:http://www.ddrb.org/event/board-working-session-2/
LOCATION:MO
CATEGORIES:Agency Hearings
END:VEVENT
BEGIN:VEVENT
DTSTART;TZID=America/Chicago:20190508T173000
DTEND;TZID=America/Chicago:20190508T210000
DTSTAMP:20260419T082354
CREATED:20190226T161218Z
LAST-MODIFIED:20190226T161218Z
UID:16430-1557336600-1557349200@www.ddrb.org
SUMMARY:Board Working Session
DESCRIPTION:The DDRB has scheduled a Board Working Session to review FY2020 funding applications prior to final funding decisions at the May 16\, 2019 Board Meeting.  Agency representatives are encouraged to attend the working session to provide clarification for any remaining questions regarding their funding request. The meeting being held at the DDRB office\, 1025 Country Club Road\, St. Charles\, MO 63303 beginning at 5:30 p.m.
URL:http://www.ddrb.org/event/board-working-session-2-2/
LOCATION:MO
CATEGORIES:Agency Hearings
END:VEVENT
BEGIN:VEVENT
DTSTART;TZID=America/Chicago:20190507T120000
DTEND;TZID=America/Chicago:20190507T140000
DTSTAMP:20260419T082354
CREATED:20190117T194150Z
LAST-MODIFIED:20190117T194150Z
UID:6287-1557230400-1557237600@www.ddrb.org
SUMMARY:Finance Committee
DESCRIPTION:The DDRB has scheduled a Finance Committee Meeting on Tuesday\, May 7\, 2019 at 12:00 p.m. at the DDRB office\, 1025 Country Club Road\, St. Charles\, MO 63303.
URL:http://www.ddrb.org/event/finance-committee-4/
LOCATION:MO
CATEGORIES:Committee Meetings
END:VEVENT
BEGIN:VEVENT
DTSTART;TZID=America/Chicago:20190507T120000
DTEND;TZID=America/Chicago:20190507T140000
DTSTAMP:20260419T082354
CREATED:20190117T194150Z
LAST-MODIFIED:20190117T194150Z
UID:16408-1557230400-1557237600@www.ddrb.org
SUMMARY:Finance Committee
DESCRIPTION:The DDRB has scheduled a Finance Committee Meeting on Tuesday\, May 7\, 2019 at 12:00 p.m. at the DDRB office\, 1025 Country Club Road\, St. Charles\, MO 63303.
URL:http://www.ddrb.org/event/finance-committee-4-2/
LOCATION:MO
CATEGORIES:Committee Meetings
END:VEVENT
BEGIN:VEVENT
DTSTART;TZID=America/Chicago:20190502T120000
DTEND;TZID=America/Chicago:20190502T140000
DTSTAMP:20260419T082354
CREATED:20190117T184559Z
LAST-MODIFIED:20190117T184559Z
UID:6266-1556798400-1556805600@www.ddrb.org
SUMMARY:Program Committee Meeting
DESCRIPTION:The DDRB has scheduled a Program Committee Meeting for Thursday\, May 2\, 2019 at 12:00 p.m. at the DDRB office\, 1025 Country Club Road\, St. Charles\, MO 63303.
URL:http://www.ddrb.org/event/program-committee-meeting-10/
LOCATION:MO
CATEGORIES:Committee Meetings
END:VEVENT
BEGIN:VEVENT
DTSTART;TZID=America/Chicago:20190502T120000
DTEND;TZID=America/Chicago:20190502T140000
DTSTAMP:20260419T082354
CREATED:20190117T184559Z
LAST-MODIFIED:20190117T184559Z
UID:16398-1556798400-1556805600@www.ddrb.org
SUMMARY:Program Committee Meeting
DESCRIPTION:The DDRB has scheduled a Program Committee Meeting for Thursday\, May 2\, 2019 at 12:00 p.m. at the DDRB office\, 1025 Country Club Road\, St. Charles\, MO 63303.
URL:http://www.ddrb.org/event/program-committee-meeting-10-2/
LOCATION:MO
CATEGORIES:Committee Meetings
END:VEVENT
END:VCALENDAR