BEGIN:VCALENDAR
VERSION:2.0
PRODID:-//DDRB - ECPv6.15.19//NONSGML v1.0//EN
CALSCALE:GREGORIAN
METHOD:PUBLISH
X-WR-CALNAME:DDRB
X-ORIGINAL-URL:http://www.ddrb.org
X-WR-CALDESC:Events for DDRB
REFRESH-INTERVAL;VALUE=DURATION:PT1H
X-Robots-Tag:noindex
X-PUBLISHED-TTL:PT1H
BEGIN:VTIMEZONE
TZID:America/Chicago
BEGIN:DAYLIGHT
TZOFFSETFROM:-0600
TZOFFSETTO:-0500
TZNAME:CDT
DTSTART:20200308T080000
END:DAYLIGHT
BEGIN:STANDARD
TZOFFSETFROM:-0500
TZOFFSETTO:-0600
TZNAME:CST
DTSTART:20201101T070000
END:STANDARD
BEGIN:DAYLIGHT
TZOFFSETFROM:-0600
TZOFFSETTO:-0500
TZNAME:CDT
DTSTART:20210314T080000
END:DAYLIGHT
BEGIN:STANDARD
TZOFFSETFROM:-0500
TZOFFSETTO:-0600
TZNAME:CST
DTSTART:20211107T070000
END:STANDARD
BEGIN:DAYLIGHT
TZOFFSETFROM:-0600
TZOFFSETTO:-0500
TZNAME:CDT
DTSTART:20220313T080000
END:DAYLIGHT
BEGIN:STANDARD
TZOFFSETFROM:-0500
TZOFFSETTO:-0600
TZNAME:CST
DTSTART:20221106T070000
END:STANDARD
BEGIN:DAYLIGHT
TZOFFSETFROM:-0600
TZOFFSETTO:-0500
TZNAME:CDT
DTSTART:20230312T080000
END:DAYLIGHT
BEGIN:STANDARD
TZOFFSETFROM:-0500
TZOFFSETTO:-0600
TZNAME:CST
DTSTART:20231105T070000
END:STANDARD
BEGIN:DAYLIGHT
TZOFFSETFROM:-0600
TZOFFSETTO:-0500
TZNAME:CDT
DTSTART:20240310T080000
END:DAYLIGHT
BEGIN:STANDARD
TZOFFSETFROM:-0500
TZOFFSETTO:-0600
TZNAME:CST
DTSTART:20241103T070000
END:STANDARD
END:VTIMEZONE
BEGIN:VEVENT
DTSTART;TZID=America/Chicago:20230307T110000
DTEND;TZID=America/Chicago:20230307T130000
DTSTAMP:20260424T094624
CREATED:20230306T200400Z
LAST-MODIFIED:20230306T200400Z
UID:10909-1678186800-1678194000@www.ddrb.org
SUMMARY:03-07-23 Finance Committee Meeting
DESCRIPTION:The Finance Committee has scheduled a meeting for Tuesday\, March 7\, 2023 beginning at 11:00 a.m. at the DDRB office\, 1025 Country Club Road\, St. Charles\, MO 63301.
URL:http://www.ddrb.org/event/03-07-23-finance-committee-meeting/
LOCATION:MO
CATEGORIES:Committee Meetings
END:VEVENT
BEGIN:VEVENT
DTSTART;TZID=America/Chicago:20230307T110000
DTEND;TZID=America/Chicago:20230307T130000
DTSTAMP:20260424T094624
CREATED:20230306T200400Z
LAST-MODIFIED:20230306T200400Z
UID:16483-1678186800-1678194000@www.ddrb.org
SUMMARY:03-07-23 Finance Committee Meeting
DESCRIPTION:The Finance Committee has scheduled a meeting for Tuesday\, March 7\, 2023 beginning at 11:00 a.m. at the DDRB office\, 1025 Country Club Road\, St. Charles\, MO 63301.
URL:http://www.ddrb.org/event/03-07-23-finance-committee-meeting-2/
LOCATION:MO
CATEGORIES:Committee Meetings
END:VEVENT
BEGIN:VEVENT
DTSTART;TZID=America/Chicago:20221116T150000
DTEND;TZID=America/Chicago:20221116T163000
DTSTAMP:20260424T094624
CREATED:20221114T155928Z
LAST-MODIFIED:20221114T155928Z
UID:10706-1668610800-1668616200@www.ddrb.org
SUMMARY:Human Resource Committee
DESCRIPTION: 
URL:http://www.ddrb.org/event/human-resource-committee/
LOCATION:DDRB Office\, 1025 Country Club Road\, St. Charles\, MO\, 63303\, United States
CATEGORIES:Committee Meetings
END:VEVENT
BEGIN:VEVENT
DTSTART;TZID=America/Chicago:20221116T150000
DTEND;TZID=America/Chicago:20221116T163000
DTSTAMP:20260424T094624
CREATED:20221114T155928Z
LAST-MODIFIED:20221114T155928Z
UID:16473-1668610800-1668616200@www.ddrb.org
SUMMARY:Human Resource Committee
DESCRIPTION: 
URL:http://www.ddrb.org/event/human-resource-committee-3/
LOCATION:DDRB Office\, 1025 Country Club Road\, St. Charles\, MO\, 63303\, United States
CATEGORIES:Committee Meetings
END:VEVENT
BEGIN:VEVENT
DTSTART;TZID=America/Chicago:20220607T110000
DTEND;TZID=America/Chicago:20220607T130000
DTSTAMP:20260424T094624
CREATED:20220606T160948Z
LAST-MODIFIED:20220606T160948Z
UID:10449-1654599600-1654606800@www.ddrb.org
SUMMARY:Finance Committee Meeting 06-07-22 at 11:00 am
DESCRIPTION:The Developmental Disabilities Resource Board of St. Charles County has scheduled a Finance Committee meeting on Tuesday\, June 7\, 2022 at 11:00 am at the DDRB office at 1025 Country Club Road\, St. Charles\, MO 63303. \n\n 
URL:http://www.ddrb.org/event/finance-committee-meeting-06-07-22/
LOCATION:DDRB Office\, 1025 Country Club Road\, St. Charles\, MO\, 63303\, United States
CATEGORIES:Committee Meetings
END:VEVENT
BEGIN:VEVENT
DTSTART;TZID=America/Chicago:20220607T110000
DTEND;TZID=America/Chicago:20220607T130000
DTSTAMP:20260424T094624
CREATED:20220606T160948Z
LAST-MODIFIED:20220606T160948Z
UID:16471-1654599600-1654606800@www.ddrb.org
SUMMARY:Finance Committee Meeting 06-07-22 at 11:00 am
DESCRIPTION:The Developmental Disabilities Resource Board of St. Charles County has scheduled a Finance Committee meeting on Tuesday\, June 7\, 2022 at 11:00 am at the DDRB office at 1025 Country Club Road\, St. Charles\, MO 63303. \n\n 
URL:http://www.ddrb.org/event/finance-committee-meeting-06-07-22-2/
LOCATION:DDRB Office\, 1025 Country Club Road\, St. Charles\, MO\, 63303\, United States
CATEGORIES:Committee Meetings
END:VEVENT
BEGIN:VEVENT
DTSTART;TZID=America/Chicago:20220414T120000
DTEND;TZID=America/Chicago:20220414T140000
DTSTAMP:20260424T094624
CREATED:20220412T175922Z
LAST-MODIFIED:20220412T175922Z
UID:10380-1649937600-1649944800@www.ddrb.org
SUMMARY:Program Committee Meeting 04-14-22
DESCRIPTION:The DDRB has scheduled a Program Committee meeting for Thursday\, April 14\, 2022\, at 12:00 pm via Zoom. \nhttps://us06web.zoom.us/j/86422868792?pwd=d2RkMnRMN0NMWWE5bUFuL1VvSVFYUT09
URL:http://www.ddrb.org/event/program-committee-meeting-04-14-22/
LOCATION:MO
CATEGORIES:Committee Meetings
END:VEVENT
BEGIN:VEVENT
DTSTART;TZID=America/Chicago:20220414T120000
DTEND;TZID=America/Chicago:20220414T140000
DTSTAMP:20260424T094624
CREATED:20220412T175922Z
LAST-MODIFIED:20220412T175922Z
UID:16470-1649937600-1649944800@www.ddrb.org
SUMMARY:Program Committee Meeting 04-14-22
DESCRIPTION:The DDRB has scheduled a Program Committee meeting for Thursday\, April 14\, 2022\, at 12:00 pm via Zoom. \nhttps://us06web.zoom.us/j/86422868792?pwd=d2RkMnRMN0NMWWE5bUFuL1VvSVFYUT09
URL:http://www.ddrb.org/event/program-committee-meeting-04-14-22-2/
LOCATION:MO
CATEGORIES:Committee Meetings
END:VEVENT
BEGIN:VEVENT
DTSTART;TZID=America/Chicago:20220412T110000
DTEND;TZID=America/Chicago:20220412T130000
DTSTAMP:20260424T094624
CREATED:20220411T150537Z
LAST-MODIFIED:20220411T150537Z
UID:10374-1649761200-1649768400@www.ddrb.org
SUMMARY:Finance Committee Meeting
DESCRIPTION:https://us06web.zoom.us/j/83045688488?pwd=NGZhSHM3bUg3bnU5VVFZdzdHVFM2dz09 \n\n 
URL:http://www.ddrb.org/event/finance-committee-meeting-18/
LOCATION:MO
CATEGORIES:Committee Meetings
END:VEVENT
BEGIN:VEVENT
DTSTART;TZID=America/Chicago:20220412T110000
DTEND;TZID=America/Chicago:20220412T130000
DTSTAMP:20260424T094624
CREATED:20220411T150537Z
LAST-MODIFIED:20220411T150537Z
UID:16469-1649761200-1649768400@www.ddrb.org
SUMMARY:Finance Committee Meeting
DESCRIPTION:https://us06web.zoom.us/j/83045688488?pwd=NGZhSHM3bUg3bnU5VVFZdzdHVFM2dz09 \n\n 
URL:http://www.ddrb.org/event/finance-committee-meeting-18-2/
LOCATION:MO
CATEGORIES:Committee Meetings
END:VEVENT
BEGIN:VEVENT
DTSTART;TZID=America/Chicago:20211203T110000
DTEND;TZID=America/Chicago:20211203T130000
DTSTAMP:20260424T094624
CREATED:20211129T213108Z
LAST-MODIFIED:20211129T213108Z
UID:10211-1638529200-1638536400@www.ddrb.org
SUMMARY:Finance Committee Meeting
DESCRIPTION:The Developmental Disabilities Resource Board of St. Charles County will hold a Finance Committee meeting\, Friday\, December 3\, 2021\, at 11:00 a.m. \nDue to the closure of the DDRB office to the public\, there will be no physical public access to the Committee meeting. The public can\, however\, attend the meeting virtually by joining zoom video conference: \nhttps://zoom.us/j/95881717174?pwd=M2RFbHlQM1N1ZmVRS3pybElNb3hhdz09 \n\n 
URL:http://www.ddrb.org/event/finance-committee-meeting-17/
LOCATION:MO
CATEGORIES:Committee Meetings
END:VEVENT
BEGIN:VEVENT
DTSTART;TZID=America/Chicago:20211203T110000
DTEND;TZID=America/Chicago:20211203T130000
DTSTAMP:20260424T094624
CREATED:20211129T213108Z
LAST-MODIFIED:20211129T213108Z
UID:16462-1638529200-1638536400@www.ddrb.org
SUMMARY:Finance Committee Meeting
DESCRIPTION:The Developmental Disabilities Resource Board of St. Charles County will hold a Finance Committee meeting\, Friday\, December 3\, 2021\, at 11:00 a.m. \nDue to the closure of the DDRB office to the public\, there will be no physical public access to the Committee meeting. The public can\, however\, attend the meeting virtually by joining zoom video conference: \nhttps://zoom.us/j/95881717174?pwd=M2RFbHlQM1N1ZmVRS3pybElNb3hhdz09 \n\n 
URL:http://www.ddrb.org/event/finance-committee-meeting-17-2/
LOCATION:MO
CATEGORIES:Committee Meetings
END:VEVENT
BEGIN:VEVENT
DTSTART;TZID=America/Chicago:20211109T110000
DTEND;TZID=America/Chicago:20211109T130000
DTSTAMP:20260424T094624
CREATED:20211103T134114Z
LAST-MODIFIED:20211103T134114Z
UID:10175-1636455600-1636462800@www.ddrb.org
SUMMARY:Finance Committee Meeting 11-09-21
DESCRIPTION:Due to the closure of the DDRB office to the public\, there will be no physical public access to the Committee meeting. The public can\, however\, attend the meeting virtually by joining zoom video conference via the following link: \nhttps://zoom.us/j/95881717174?pwd=M2RFbHlQM1N1ZmVRS3pybElNb3hhdz09 \n\n 
URL:http://www.ddrb.org/event/finance-committee-meeting-11-09-21/
LOCATION:MO
CATEGORIES:Committee Meetings
END:VEVENT
BEGIN:VEVENT
DTSTART;TZID=America/Chicago:20211109T110000
DTEND;TZID=America/Chicago:20211109T130000
DTSTAMP:20260424T094624
CREATED:20211103T134114Z
LAST-MODIFIED:20211103T134114Z
UID:16460-1636455600-1636462800@www.ddrb.org
SUMMARY:Finance Committee Meeting 11-09-21
DESCRIPTION:Due to the closure of the DDRB office to the public\, there will be no physical public access to the Committee meeting. The public can\, however\, attend the meeting virtually by joining zoom video conference via the following link: \nhttps://zoom.us/j/95881717174?pwd=M2RFbHlQM1N1ZmVRS3pybElNb3hhdz09 \n\n 
URL:http://www.ddrb.org/event/finance-committee-meeting-11-09-21-2/
LOCATION:MO
CATEGORIES:Committee Meetings
END:VEVENT
BEGIN:VEVENT
DTSTART;TZID=America/Chicago:20211007T120000
DTEND;TZID=America/Chicago:20211007T140000
DTSTAMP:20260424T094624
CREATED:20211004T145109Z
LAST-MODIFIED:20211004T145109Z
UID:10137-1633608000-1633615200@www.ddrb.org
SUMMARY:CANCELLED - Program Committee Meeting October 7\, 2021
DESCRIPTION:This meeting has been cancelled.
URL:http://www.ddrb.org/event/program-committee-meeting-october-7-2021/
LOCATION:MO
CATEGORIES:Committee Meetings
END:VEVENT
BEGIN:VEVENT
DTSTART;TZID=America/Chicago:20211007T120000
DTEND;TZID=America/Chicago:20211007T140000
DTSTAMP:20260424T094624
CREATED:20211004T145109Z
LAST-MODIFIED:20211004T145109Z
UID:16459-1633608000-1633615200@www.ddrb.org
SUMMARY:CANCELLED - Program Committee Meeting October 7\, 2021
DESCRIPTION:This meeting has been cancelled.
URL:http://www.ddrb.org/event/program-committee-meeting-october-7-2021-2/
LOCATION:MO
CATEGORIES:Committee Meetings
END:VEVENT
BEGIN:VEVENT
DTSTART;TZID=America/Chicago:20211005T110000
DTEND;TZID=America/Chicago:20211005T130000
DTSTAMP:20260424T094624
CREATED:20210930T143128Z
LAST-MODIFIED:20210930T143128Z
UID:10128-1633431600-1633438800@www.ddrb.org
SUMMARY:Finance Committee Meeting
DESCRIPTION:The Developmental Disabilities Resource Board of St. Charles County will hold a Finance Committee meeting\, Tuesday\, October 5\, 2021\, at 11:00 a.m. \nDue to the closure of the DDRB office to the public\, there will be no physical public access to the Committee meeting.  The public can\, however\, attend the meeting virtually by joining zoom video conference: \nJoin Zoom Meeting: \nhttps://zoom.us/j/95881717174?pwd=M2RFbHlQM1N1ZmVRS3pybElNb3hhdz09
URL:http://www.ddrb.org/event/finance-committee-meeting-15/
LOCATION:MO
CATEGORIES:Committee Meetings
END:VEVENT
BEGIN:VEVENT
DTSTART;TZID=America/Chicago:20211005T110000
DTEND;TZID=America/Chicago:20211005T130000
DTSTAMP:20260424T094624
CREATED:20210930T143128Z
LAST-MODIFIED:20210930T143128Z
UID:16458-1633431600-1633438800@www.ddrb.org
SUMMARY:Finance Committee Meeting
DESCRIPTION:The Developmental Disabilities Resource Board of St. Charles County will hold a Finance Committee meeting\, Tuesday\, October 5\, 2021\, at 11:00 a.m. \nDue to the closure of the DDRB office to the public\, there will be no physical public access to the Committee meeting.  The public can\, however\, attend the meeting virtually by joining zoom video conference: \nJoin Zoom Meeting: \nhttps://zoom.us/j/95881717174?pwd=M2RFbHlQM1N1ZmVRS3pybElNb3hhdz09
URL:http://www.ddrb.org/event/finance-committee-meeting-15-2/
LOCATION:MO
CATEGORIES:Committee Meetings
END:VEVENT
BEGIN:VEVENT
DTSTART;TZID=America/Chicago:20210902T120000
DTEND;TZID=America/Chicago:20210902T140000
DTSTAMP:20260424T094624
CREATED:20210830T160651Z
LAST-MODIFIED:20210830T160651Z
UID:10065-1630584000-1630591200@www.ddrb.org
SUMMARY:Program Committee Meeting 09-02-21
DESCRIPTION:The Developmental Disabilities Resource Board of St. Charles County will hold a Program Committee meeting\, Thursday\, September 2\, 2021\, at 12:00 p.m. \nDue to the closure of the DDRB office to the public\, there will be no physical public access to the Committee meeting.  The public can\, however\, attend the meeting virtually by joining zoom video conference. \n\n 
URL:http://www.ddrb.org/event/program-committee-meeting-09-02-21/
LOCATION:MO
CATEGORIES:Committee Meetings
END:VEVENT
BEGIN:VEVENT
DTSTART;TZID=America/Chicago:20210902T120000
DTEND;TZID=America/Chicago:20210902T140000
DTSTAMP:20260424T094624
CREATED:20210830T160651Z
LAST-MODIFIED:20210830T160651Z
UID:16454-1630584000-1630591200@www.ddrb.org
SUMMARY:Program Committee Meeting 09-02-21
DESCRIPTION:The Developmental Disabilities Resource Board of St. Charles County will hold a Program Committee meeting\, Thursday\, September 2\, 2021\, at 12:00 p.m. \nDue to the closure of the DDRB office to the public\, there will be no physical public access to the Committee meeting.  The public can\, however\, attend the meeting virtually by joining zoom video conference. \n\n 
URL:http://www.ddrb.org/event/program-committee-meeting-09-02-21-2/
LOCATION:MO
CATEGORIES:Committee Meetings
END:VEVENT
BEGIN:VEVENT
DTSTART;TZID=America/Chicago:20210406T120000
DTEND;TZID=America/Chicago:20210406T140000
DTSTAMP:20260424T094624
CREATED:20210402T152451Z
LAST-MODIFIED:20210402T152451Z
UID:7809-1617710400-1617717600@www.ddrb.org
SUMMARY:Finance Committee Meeting
DESCRIPTION:
URL:http://www.ddrb.org/event/finance-committee-meeting-14/
LOCATION:MO
CATEGORIES:Committee Meetings
END:VEVENT
BEGIN:VEVENT
DTSTART;TZID=America/Chicago:20210406T120000
DTEND;TZID=America/Chicago:20210406T140000
DTSTAMP:20260424T094624
CREATED:20210402T152451Z
LAST-MODIFIED:20210402T152451Z
UID:16446-1617710400-1617717600@www.ddrb.org
SUMMARY:Finance Committee Meeting
DESCRIPTION:
URL:http://www.ddrb.org/event/finance-committee-meeting-14-2/
LOCATION:MO
CATEGORIES:Committee Meetings
END:VEVENT
BEGIN:VEVENT
DTSTART;TZID=America/Chicago:20210401T120000
DTEND;TZID=America/Chicago:20210401T140000
DTSTAMP:20260424T094624
CREATED:20210402T152638Z
LAST-MODIFIED:20210402T152638Z
UID:7811-1617278400-1617285600@www.ddrb.org
SUMMARY:Program Committee Meeting 04-01-21
DESCRIPTION:
URL:http://www.ddrb.org/event/program-committee-meeting-04-01-21/
LOCATION:MO
CATEGORIES:Committee Meetings
END:VEVENT
BEGIN:VEVENT
DTSTART;TZID=America/Chicago:20210401T120000
DTEND;TZID=America/Chicago:20210401T140000
DTSTAMP:20260424T094624
CREATED:20210402T152638Z
LAST-MODIFIED:20210402T152638Z
UID:16447-1617278400-1617285600@www.ddrb.org
SUMMARY:Program Committee Meeting 04-01-21
DESCRIPTION:
URL:http://www.ddrb.org/event/program-committee-meeting-04-01-21-2/
LOCATION:MO
CATEGORIES:Committee Meetings
END:VEVENT
BEGIN:VEVENT
DTSTART;TZID=America/Chicago:20210302T120000
DTEND;TZID=America/Chicago:20210302T140000
DTSTAMP:20260424T094624
CREATED:20210226T201327Z
LAST-MODIFIED:20210226T201327Z
UID:7754-1614686400-1614693600@www.ddrb.org
SUMMARY:Finance Committee Meeting
DESCRIPTION:
URL:http://www.ddrb.org/event/finance-committee-meeting-8/
LOCATION:MO
CATEGORIES:Committee Meetings
END:VEVENT
BEGIN:VEVENT
DTSTART;TZID=America/Chicago:20210302T120000
DTEND;TZID=America/Chicago:20210302T140000
DTSTAMP:20260424T094624
CREATED:20210226T201327Z
LAST-MODIFIED:20210226T201327Z
UID:16445-1614686400-1614693600@www.ddrb.org
SUMMARY:Finance Committee Meeting
DESCRIPTION:
URL:http://www.ddrb.org/event/finance-committee-meeting-8-2/
LOCATION:MO
CATEGORIES:Committee Meetings
END:VEVENT
BEGIN:VEVENT
DTSTART;TZID=America/Chicago:20210202T120000
DTEND;TZID=America/Chicago:20210202T140000
DTSTAMP:20260424T094624
CREATED:20210201T173456Z
LAST-MODIFIED:20210201T173456Z
UID:7704-1612267200-1612274400@www.ddrb.org
SUMMARY:Finance Committee Meeting 02-02-21
DESCRIPTION:The Developmental Disabilities Resource Board of St. Charles County will hold a Finance Committee meeting\, Tuesday\, February 2\, 2021 at 12:00 p.m.  \nDue to the closure of the DDRB office to the public\, there will be no physical public access to the Committee meeting.  The public can\, however\, attend the meeting virtually by joining zoom video conference: \nJoin Zoom Meeting\nhttps://zoom.us/j/95881717174?pwd=M2RFbHlQM1N1ZmVRS3pybElNb3hhdz09
URL:http://www.ddrb.org/event/finance-committee-meeting-02-02-21/
LOCATION:MO
CATEGORIES:Committee Meetings
END:VEVENT
BEGIN:VEVENT
DTSTART;TZID=America/Chicago:20210202T120000
DTEND;TZID=America/Chicago:20210202T140000
DTSTAMP:20260424T094624
CREATED:20210201T173456Z
LAST-MODIFIED:20210201T173456Z
UID:16444-1612267200-1612274400@www.ddrb.org
SUMMARY:Finance Committee Meeting 02-02-21
DESCRIPTION:The Developmental Disabilities Resource Board of St. Charles County will hold a Finance Committee meeting\, Tuesday\, February 2\, 2021 at 12:00 p.m.  \nDue to the closure of the DDRB office to the public\, there will be no physical public access to the Committee meeting.  The public can\, however\, attend the meeting virtually by joining zoom video conference: \nJoin Zoom Meeting\nhttps://zoom.us/j/95881717174?pwd=M2RFbHlQM1N1ZmVRS3pybElNb3hhdz09
URL:http://www.ddrb.org/event/finance-committee-meeting-02-02-21-2/
LOCATION:MO
CATEGORIES:Committee Meetings
END:VEVENT
BEGIN:VEVENT
DTSTART;TZID=America/Chicago:20210127T120000
DTEND;TZID=America/Chicago:20210127T140000
DTSTAMP:20260424T094624
CREATED:20210125T181522Z
LAST-MODIFIED:20210125T181522Z
UID:7694-1611748800-1611756000@www.ddrb.org
SUMMARY:Human Resource Committee Meeting
DESCRIPTION:
URL:http://www.ddrb.org/event/human-resource-committee-meeting/
LOCATION:MO
CATEGORIES:Committee Meetings
END:VEVENT
BEGIN:VEVENT
DTSTART;TZID=America/Chicago:20210127T120000
DTEND;TZID=America/Chicago:20210127T140000
DTSTAMP:20260424T094624
CREATED:20210125T181522Z
LAST-MODIFIED:20210125T181522Z
UID:16443-1611748800-1611756000@www.ddrb.org
SUMMARY:Human Resource Committee Meeting
DESCRIPTION:
URL:http://www.ddrb.org/event/human-resource-committee-meeting-2/
LOCATION:MO
CATEGORIES:Committee Meetings
END:VEVENT
END:VCALENDAR