BEGIN:VCALENDAR
VERSION:2.0
PRODID:-//DDRB - ECPv6.15.19//NONSGML v1.0//EN
CALSCALE:GREGORIAN
METHOD:PUBLISH
X-ORIGINAL-URL:http://www.ddrb.org
X-WR-CALDESC:Events for DDRB
REFRESH-INTERVAL;VALUE=DURATION:PT1H
X-Robots-Tag:noindex
X-PUBLISHED-TTL:PT1H
BEGIN:VTIMEZONE
TZID:America/Chicago
BEGIN:DAYLIGHT
TZOFFSETFROM:-0600
TZOFFSETTO:-0500
TZNAME:CDT
DTSTART:20230312T080000
END:DAYLIGHT
BEGIN:STANDARD
TZOFFSETFROM:-0500
TZOFFSETTO:-0600
TZNAME:CST
DTSTART:20231105T070000
END:STANDARD
BEGIN:DAYLIGHT
TZOFFSETFROM:-0600
TZOFFSETTO:-0500
TZNAME:CDT
DTSTART:20240310T080000
END:DAYLIGHT
BEGIN:STANDARD
TZOFFSETFROM:-0500
TZOFFSETTO:-0600
TZNAME:CST
DTSTART:20241103T070000
END:STANDARD
BEGIN:DAYLIGHT
TZOFFSETFROM:-0600
TZOFFSETTO:-0500
TZNAME:CDT
DTSTART:20250309T080000
END:DAYLIGHT
BEGIN:STANDARD
TZOFFSETFROM:-0500
TZOFFSETTO:-0600
TZNAME:CST
DTSTART:20251102T070000
END:STANDARD
END:VTIMEZONE
BEGIN:VEVENT
DTSTART;TZID=America/Chicago:20241001T110000
DTEND;TZID=America/Chicago:20241001T130000
DTSTAMP:20260422T080734
CREATED:20240124T185205Z
LAST-MODIFIED:20240124T185205Z
UID:11399-1727780400-1727787600@www.ddrb.org
SUMMARY:Finance Committee Meeting 10-01-24
DESCRIPTION:The Developmental Disabilities Resource Board of St. Charles County has scheduled a Finance Committee meeting on Tuesday\, October 1\, 2024\, at 11:00am at the DDRB Office\, 1025 Country Club Road\, St. Charles\, MO 63303.
URL:http://www.ddrb.org/event/finance-committee-meeting-10-01-24/
CATEGORIES:Committee Meetings
END:VEVENT
BEGIN:VEVENT
DTSTART;TZID=America/Chicago:20241001T110000
DTEND;TZID=America/Chicago:20241001T130000
DTSTAMP:20260422T080734
CREATED:20240124T185205Z
LAST-MODIFIED:20240124T185205Z
UID:16526-1727780400-1727787600@www.ddrb.org
SUMMARY:Finance Committee Meeting 10-01-24
DESCRIPTION:The Developmental Disabilities Resource Board of St. Charles County has scheduled a Finance Committee meeting on Tuesday\, October 1\, 2024\, at 11:00am at the DDRB Office\, 1025 Country Club Road\, St. Charles\, MO 63303.
URL:http://www.ddrb.org/event/finance-committee-meeting-10-01-24-2/
CATEGORIES:Committee Meetings
END:VEVENT
BEGIN:VEVENT
DTSTART;TZID=America/Chicago:20240903T110000
DTEND;TZID=America/Chicago:20240903T130000
DTSTAMP:20260422T080734
CREATED:20240124T185039Z
LAST-MODIFIED:20240124T185039Z
UID:11398-1725361200-1725368400@www.ddrb.org
SUMMARY:Finance Committee Meeting 09-03-24
DESCRIPTION:The Developmental Disabilities Resource Board of St. Charles County has scheduled a Finance Committee meeting on Tuesday\, September 3\, 2024\, at 11:00am at the DDRB Office\, 1025 Country Club Road\, St. Charles\, MO 63303.
URL:http://www.ddrb.org/event/finance-committee-meeting-09-03-24/
CATEGORIES:Committee Meetings
END:VEVENT
BEGIN:VEVENT
DTSTART;TZID=America/Chicago:20240903T110000
DTEND;TZID=America/Chicago:20240903T130000
DTSTAMP:20260422T080734
CREATED:20240124T185039Z
LAST-MODIFIED:20240124T185039Z
UID:16525-1725361200-1725368400@www.ddrb.org
SUMMARY:Finance Committee Meeting 09-03-24
DESCRIPTION:The Developmental Disabilities Resource Board of St. Charles County has scheduled a Finance Committee meeting on Tuesday\, September 3\, 2024\, at 11:00am at the DDRB Office\, 1025 Country Club Road\, St. Charles\, MO 63303.
URL:http://www.ddrb.org/event/finance-committee-meeting-09-03-24-2/
CATEGORIES:Committee Meetings
END:VEVENT
BEGIN:VEVENT
DTSTART;TZID=America/Chicago:20240806T110000
DTEND;TZID=America/Chicago:20240806T130000
DTSTAMP:20260422T080734
CREATED:20240124T184730Z
LAST-MODIFIED:20240124T184730Z
UID:11397-1722942000-1722949200@www.ddrb.org
SUMMARY:Finance Committee Meeting 08-06-24
DESCRIPTION:The Developmental Disabilities Resource Board of St. Charles County has scheduled a Finance Committee meeting on Tuesday\, August 6\, 2024\, at 11:00am at the DDRB Office\, 1025 Country Club Road\, St. Charles\, MO 63303.
URL:http://www.ddrb.org/event/finance-committee-meeting-08-06-24/
CATEGORIES:Committee Meetings
END:VEVENT
BEGIN:VEVENT
DTSTART;TZID=America/Chicago:20240806T110000
DTEND;TZID=America/Chicago:20240806T130000
DTSTAMP:20260422T080734
CREATED:20240124T184730Z
LAST-MODIFIED:20240124T184730Z
UID:16524-1722942000-1722949200@www.ddrb.org
SUMMARY:Finance Committee Meeting 08-06-24
DESCRIPTION:The Developmental Disabilities Resource Board of St. Charles County has scheduled a Finance Committee meeting on Tuesday\, August 6\, 2024\, at 11:00am at the DDRB Office\, 1025 Country Club Road\, St. Charles\, MO 63303.
URL:http://www.ddrb.org/event/finance-committee-meeting-08-06-24-2/
CATEGORIES:Committee Meetings
END:VEVENT
BEGIN:VEVENT
DTSTART;TZID=America/Chicago:20240704T123000
DTEND;TZID=America/Chicago:20240704T143000
DTSTAMP:20260422T080734
CREATED:20240124T183029Z
LAST-MODIFIED:20240124T183029Z
UID:11390-1720096200-1720103400@www.ddrb.org
SUMMARY:Program Committee Meeting Cancelled for July
DESCRIPTION:The Developmental Disabilities Resource Board of St. Charles County has CANCELLED the Program Committee Meeting for July\, 2024.
URL:http://www.ddrb.org/event/program-committee-meeting-cancelled-for-july/
CATEGORIES:Committee Meetings
END:VEVENT
BEGIN:VEVENT
DTSTART;TZID=America/Chicago:20240704T123000
DTEND;TZID=America/Chicago:20240704T143000
DTSTAMP:20260422T080734
CREATED:20240124T183029Z
LAST-MODIFIED:20240124T183029Z
UID:16522-1720096200-1720103400@www.ddrb.org
SUMMARY:Program Committee Meeting Cancelled for July
DESCRIPTION:The Developmental Disabilities Resource Board of St. Charles County has CANCELLED the Program Committee Meeting for July\, 2024.
URL:http://www.ddrb.org/event/program-committee-meeting-cancelled-for-july-2/
CATEGORIES:Committee Meetings
END:VEVENT
BEGIN:VEVENT
DTSTART;TZID=America/Chicago:20240702T110000
DTEND;TZID=America/Chicago:20240702T130000
DTSTAMP:20260422T080734
CREATED:20240124T184611Z
LAST-MODIFIED:20240124T184611Z
UID:11396-1719918000-1719925200@www.ddrb.org
SUMMARY:Finance Committee Meeting 07-02-24
DESCRIPTION:The Developmental Disabilities Resource Board of St. Charles County has scheduled a Finance Committee meeting on Tuesday\, July 2\, 2024\, at 11:00am at the DDRB Office\, 1025 Country Club Road\, St. Charles\, MO 63303.
URL:http://www.ddrb.org/event/finance-committee-meeting-07-02-24/
CATEGORIES:Committee Meetings
END:VEVENT
BEGIN:VEVENT
DTSTART;TZID=America/Chicago:20240702T110000
DTEND;TZID=America/Chicago:20240702T130000
DTSTAMP:20260422T080734
CREATED:20240124T184611Z
LAST-MODIFIED:20240124T184611Z
UID:16523-1719918000-1719925200@www.ddrb.org
SUMMARY:Finance Committee Meeting 07-02-24
DESCRIPTION:The Developmental Disabilities Resource Board of St. Charles County has scheduled a Finance Committee meeting on Tuesday\, July 2\, 2024\, at 11:00am at the DDRB Office\, 1025 Country Club Road\, St. Charles\, MO 63303.
URL:http://www.ddrb.org/event/finance-committee-meeting-07-02-24-2/
CATEGORIES:Committee Meetings
END:VEVENT
BEGIN:VEVENT
DTSTART;TZID=America/Chicago:20240604T110000
DTEND;TZID=America/Chicago:20240604T130000
DTSTAMP:20260422T080734
CREATED:20240124T180537Z
LAST-MODIFIED:20240124T180537Z
UID:11385-1717498800-1717506000@www.ddrb.org
SUMMARY:Finance Committee Meeting 06-04-24
DESCRIPTION:The Developmental Disabilities Resource Board of St. Charles County has scheduled a Finance Committee meeting on Tuesday\, June 4\, 2024\, at 11:00am at the DDRB Office\, 1025 Country Club Road\, St. Charles\, MO 63303.
URL:http://www.ddrb.org/event/finance-committee-meeting-06-04-24/
CATEGORIES:Committee Meetings
END:VEVENT
BEGIN:VEVENT
DTSTART;TZID=America/Chicago:20240604T110000
DTEND;TZID=America/Chicago:20240604T130000
DTSTAMP:20260422T080734
CREATED:20240124T180537Z
LAST-MODIFIED:20240124T180537Z
UID:16519-1717498800-1717506000@www.ddrb.org
SUMMARY:Finance Committee Meeting 06-04-24
DESCRIPTION:The Developmental Disabilities Resource Board of St. Charles County has scheduled a Finance Committee meeting on Tuesday\, June 4\, 2024\, at 11:00am at the DDRB Office\, 1025 Country Club Road\, St. Charles\, MO 63303.
URL:http://www.ddrb.org/event/finance-committee-meeting-06-04-24-2/
CATEGORIES:Committee Meetings
END:VEVENT
BEGIN:VEVENT
DTSTART;TZID=America/Chicago:20240507T110000
DTEND;TZID=America/Chicago:20240507T130000
DTSTAMP:20260422T080734
CREATED:20240124T180355Z
LAST-MODIFIED:20240124T180355Z
UID:11384-1715079600-1715086800@www.ddrb.org
SUMMARY:Finance Committee Meeting 05-07-24
DESCRIPTION:The Developmental Disabilities Resource Board of St. Charles County has scheduled a Finance Committee meeting on Tuesday\, May 7\, 2024\, at 11:00am at the DDRB Office\, 1025 Country Club Road\, St. Charles\, MO 63303.
URL:http://www.ddrb.org/event/finance-committee-meeting-05-07-24/
CATEGORIES:Committee Meetings
END:VEVENT
BEGIN:VEVENT
DTSTART;TZID=America/Chicago:20240507T110000
DTEND;TZID=America/Chicago:20240507T130000
DTSTAMP:20260422T080734
CREATED:20240124T180355Z
LAST-MODIFIED:20240124T180355Z
UID:16518-1715079600-1715086800@www.ddrb.org
SUMMARY:Finance Committee Meeting 05-07-24
DESCRIPTION:The Developmental Disabilities Resource Board of St. Charles County has scheduled a Finance Committee meeting on Tuesday\, May 7\, 2024\, at 11:00am at the DDRB Office\, 1025 Country Club Road\, St. Charles\, MO 63303.
URL:http://www.ddrb.org/event/finance-committee-meeting-05-07-24-2/
CATEGORIES:Committee Meetings
END:VEVENT
BEGIN:VEVENT
DTSTART;TZID=America/Chicago:20240502T123000
DTEND;TZID=America/Chicago:20240502T143000
DTSTAMP:20260422T080734
CREATED:20240124T182413Z
LAST-MODIFIED:20240124T182413Z
UID:11388-1714653000-1714660200@www.ddrb.org
SUMMARY:Program Committee Meeting 05-02-24
DESCRIPTION:The Developmental Disabilities Resource Board of St. Charles County has scheduled a Program Committee Meeting on Thursday\, May 2\, 2024\, at 12:30 p.m. at the DDRB office\, 1025 Country Club Road\, St. Charles\, MO 63303.
URL:http://www.ddrb.org/event/program-committee-meeting-05-02-24/
CATEGORIES:Committee Meetings
END:VEVENT
BEGIN:VEVENT
DTSTART;TZID=America/Chicago:20240502T123000
DTEND;TZID=America/Chicago:20240502T143000
DTSTAMP:20260422T080734
CREATED:20240124T182413Z
LAST-MODIFIED:20240124T182413Z
UID:16521-1714653000-1714660200@www.ddrb.org
SUMMARY:Program Committee Meeting 05-02-24
DESCRIPTION:The Developmental Disabilities Resource Board of St. Charles County has scheduled a Program Committee Meeting on Thursday\, May 2\, 2024\, at 12:30 p.m. at the DDRB office\, 1025 Country Club Road\, St. Charles\, MO 63303.
URL:http://www.ddrb.org/event/program-committee-meeting-05-02-24-2/
CATEGORIES:Committee Meetings
END:VEVENT
BEGIN:VEVENT
DTSTART;TZID=America/Chicago:20240404T123000
DTEND;TZID=America/Chicago:20240404T143000
DTSTAMP:20260422T080734
CREATED:20240124T182225Z
LAST-MODIFIED:20240124T182225Z
UID:11387-1712233800-1712241000@www.ddrb.org
SUMMARY:Program Committee Meeting 04-04-24
DESCRIPTION:The Developmental Disabilities Resource Board of St. Charles County has scheduled a Program Committee Meeting on Thursday\, April 4\, 2024\, at 12:30 p.m. at the DDRB office\, 1025 Country Club Road\, St. Charles\, MO 63303.
URL:http://www.ddrb.org/event/program-committee-meeting-04-04-24/
CATEGORIES:Committee Meetings
END:VEVENT
BEGIN:VEVENT
DTSTART;TZID=America/Chicago:20240404T123000
DTEND;TZID=America/Chicago:20240404T143000
DTSTAMP:20260422T080734
CREATED:20240124T182225Z
LAST-MODIFIED:20240124T182225Z
UID:16520-1712233800-1712241000@www.ddrb.org
SUMMARY:Program Committee Meeting 04-04-24
DESCRIPTION:The Developmental Disabilities Resource Board of St. Charles County has scheduled a Program Committee Meeting on Thursday\, April 4\, 2024\, at 12:30 p.m. at the DDRB office\, 1025 Country Club Road\, St. Charles\, MO 63303.
URL:http://www.ddrb.org/event/program-committee-meeting-04-04-24-2/
CATEGORIES:Committee Meetings
END:VEVENT
BEGIN:VEVENT
DTSTART;TZID=America/Chicago:20240402T110000
DTEND;TZID=America/Chicago:20240402T130000
DTSTAMP:20260422T080734
CREATED:20240124T180107Z
LAST-MODIFIED:20240124T180107Z
UID:11383-1712055600-1712062800@www.ddrb.org
SUMMARY:Finance Committee Meeting 04-02-24
DESCRIPTION:The Developmental Disabilities Resource Board of St. Charles County has scheduled a Finance Committee meeting on Tuesday\, April 2\, 2024\, at 11:00am at the DDRB Office\, 1025 Country Club Road\, St. Charles\, MO 63303.
URL:http://www.ddrb.org/event/finance-committee-meeting-04-02-24/
CATEGORIES:Committee Meetings
END:VEVENT
BEGIN:VEVENT
DTSTART;TZID=America/Chicago:20240402T110000
DTEND;TZID=America/Chicago:20240402T130000
DTSTAMP:20260422T080734
CREATED:20240124T180107Z
LAST-MODIFIED:20240124T180107Z
UID:16517-1712055600-1712062800@www.ddrb.org
SUMMARY:Finance Committee Meeting 04-02-24
DESCRIPTION:The Developmental Disabilities Resource Board of St. Charles County has scheduled a Finance Committee meeting on Tuesday\, April 2\, 2024\, at 11:00am at the DDRB Office\, 1025 Country Club Road\, St. Charles\, MO 63303.
URL:http://www.ddrb.org/event/finance-committee-meeting-04-02-24-2/
CATEGORIES:Committee Meetings
END:VEVENT
BEGIN:VEVENT
DTSTART;TZID=America/Chicago:20240305T110000
DTEND;TZID=America/Chicago:20240305T130000
DTSTAMP:20260422T080734
CREATED:20240228T182640Z
LAST-MODIFIED:20240228T182640Z
UID:11431-1709636400-1709643600@www.ddrb.org
SUMMARY:Finance Committee Meeting
DESCRIPTION:
URL:http://www.ddrb.org/event/finance-committee-meeting-21/
LOCATION:DDRB Office\, 1025 Country Club Road\, St. Charles\, MO\, 63303\, United States
CATEGORIES:Committee Meetings
END:VEVENT
BEGIN:VEVENT
DTSTART;TZID=America/Chicago:20240305T110000
DTEND;TZID=America/Chicago:20240305T130000
DTSTAMP:20260422T080734
CREATED:20240228T182640Z
LAST-MODIFIED:20240228T182640Z
UID:16530-1709636400-1709643600@www.ddrb.org
SUMMARY:Finance Committee Meeting
DESCRIPTION:
URL:http://www.ddrb.org/event/finance-committee-meeting-21-2/
LOCATION:DDRB Office\, 1025 Country Club Road\, St. Charles\, MO\, 63303\, United States
CATEGORIES:Committee Meetings
END:VEVENT
BEGIN:VEVENT
DTSTART;TZID=America/Chicago:20240305T110000
DTEND;TZID=America/Chicago:20240305T130000
DTSTAMP:20260422T080734
CREATED:20240124T175837Z
LAST-MODIFIED:20240124T175837Z
UID:11382-1709636400-1709643600@www.ddrb.org
SUMMARY:Finance Committee Meeting 03-05-24
DESCRIPTION:The Developmental Disabilities Resource Board of St. Charles County has scheduled a Finance Committee meeting on Tuesday\, March 5\, 2024\, at 11:00am at the DDRB Office\, 1025 Country Club Road\, St. Charles\, MO 63303.
URL:http://www.ddrb.org/event/finance-committee-meeting-03-05-24/
CATEGORIES:Committee Meetings
END:VEVENT
BEGIN:VEVENT
DTSTART;TZID=America/Chicago:20240305T110000
DTEND;TZID=America/Chicago:20240305T130000
DTSTAMP:20260422T080734
CREATED:20240124T175837Z
LAST-MODIFIED:20240124T175837Z
UID:16516-1709636400-1709643600@www.ddrb.org
SUMMARY:Finance Committee Meeting 03-05-24
DESCRIPTION:The Developmental Disabilities Resource Board of St. Charles County has scheduled a Finance Committee meeting on Tuesday\, March 5\, 2024\, at 11:00am at the DDRB Office\, 1025 Country Club Road\, St. Charles\, MO 63303.
URL:http://www.ddrb.org/event/finance-committee-meeting-03-05-24-2/
CATEGORIES:Committee Meetings
END:VEVENT
BEGIN:VEVENT
DTSTART;TZID=America/Chicago:20240208T123000
DTEND;TZID=America/Chicago:20240208T143000
DTSTAMP:20260422T080734
CREATED:20240122T163818Z
LAST-MODIFIED:20240122T163818Z
UID:11376-1707395400-1707402600@www.ddrb.org
SUMMARY:Program Committee Meeting
DESCRIPTION:The DDRB has scheduled a Program Committee meeting on Thursday\, February 8\, 2024 at 12:30 p.m. at the DDRB office\, 1025 Country Club Road\, St. Charles\, MO 63303.
URL:http://www.ddrb.org/event/program-committee-meeting-19-copy/
CATEGORIES:Committee Meetings
END:VEVENT
BEGIN:VEVENT
DTSTART;TZID=America/Chicago:20240208T123000
DTEND;TZID=America/Chicago:20240208T143000
DTSTAMP:20260422T080734
CREATED:20240122T163818Z
LAST-MODIFIED:20240122T163818Z
UID:16514-1707395400-1707402600@www.ddrb.org
SUMMARY:Program Committee Meeting
DESCRIPTION:The DDRB has scheduled a Program Committee meeting on Thursday\, February 8\, 2024 at 12:30 p.m. at the DDRB office\, 1025 Country Club Road\, St. Charles\, MO 63303.
URL:http://www.ddrb.org/event/program-committee-meeting-19-copy-2/
CATEGORIES:Committee Meetings
END:VEVENT
BEGIN:VEVENT
DTSTART;TZID=America/Chicago:20240206T110000
DTEND;TZID=America/Chicago:20240206T130000
DTSTAMP:20260422T080734
CREATED:20240124T164913Z
LAST-MODIFIED:20240124T164913Z
UID:11380-1707217200-1707224400@www.ddrb.org
SUMMARY:Finance Committee Meeting 02-06-24
DESCRIPTION:The Developmental Disabilities Resource Board of St. Charles County has scheduled a Finance Committee meeting on Tuesday\, February 6\, 2024\, at 11:00am at the DDRB Office\, 1025 Country Club Road\, St. Charles\, MO 63303.
URL:http://www.ddrb.org/event/finance-committee-meeting-02-06-24/
CATEGORIES:Committee Meetings
END:VEVENT
BEGIN:VEVENT
DTSTART;TZID=America/Chicago:20240206T110000
DTEND;TZID=America/Chicago:20240206T130000
DTSTAMP:20260422T080734
CREATED:20240124T164913Z
LAST-MODIFIED:20240124T164913Z
UID:16515-1707217200-1707224400@www.ddrb.org
SUMMARY:Finance Committee Meeting 02-06-24
DESCRIPTION:The Developmental Disabilities Resource Board of St. Charles County has scheduled a Finance Committee meeting on Tuesday\, February 6\, 2024\, at 11:00am at the DDRB Office\, 1025 Country Club Road\, St. Charles\, MO 63303.
URL:http://www.ddrb.org/event/finance-committee-meeting-02-06-24-2/
CATEGORIES:Committee Meetings
END:VEVENT
BEGIN:VEVENT
DTSTART;TZID=America/Chicago:20240116T100000
DTEND;TZID=America/Chicago:20240116T110000
DTSTAMP:20260422T080734
CREATED:20240104T171312Z
LAST-MODIFIED:20240104T171312Z
UID:11313-1705399200-1705402800@www.ddrb.org
SUMMARY:Human Resource Committee
DESCRIPTION:
URL:http://www.ddrb.org/event/human-resource-committee-2/
CATEGORIES:Committee Meetings
END:VEVENT
BEGIN:VEVENT
DTSTART;TZID=America/Chicago:20240116T100000
DTEND;TZID=America/Chicago:20240116T110000
DTSTAMP:20260422T080734
CREATED:20240104T171312Z
LAST-MODIFIED:20240104T171312Z
UID:16503-1705399200-1705402800@www.ddrb.org
SUMMARY:Human Resource Committee
DESCRIPTION:
URL:http://www.ddrb.org/event/human-resource-committee-2-2/
CATEGORIES:Committee Meetings
END:VEVENT
END:VCALENDAR